BEGIN:VCALENDAR
VERSION:2.0
PRODID:-//empowercdc.org//NONSGML kigkonsult.se iCalcreator 2.30.10//
CALSCALE:GREGORIAN
METHOD:PUBLISH
UID:b8ac8ca4-6c3e-4d84-bbb1-7b3a739bb812
X-WR-CALDESC:
X-WR-RELCALID:6a848f61d5803c777c5592e0751c4a06
X-WR-TIMEZONE:America/Chicago
BEGIN:VTIMEZONE
TZID:America/Chicago
BEGIN:STANDARD
TZNAME:CST
DTSTART:20231105T020000
TZOFFSETFROM:-0500
TZOFFSETTO:-0600
RDATE:20241103T020000
RDATE:20251102T020000
END:STANDARD
BEGIN:DAYLIGHT
TZNAME:CDT
DTSTART:20240310T020000
TZOFFSETFROM:-0600
TZOFFSETTO:-0500
RDATE:20250309T020000
END:DAYLIGHT
END:VTIMEZONE
BEGIN:VEVENT
UID:bbece2bf-abdd-4742-8f9d-0c31fdb6a782
DTSTAMP:20260422T150538Z
DESCRIPTION:
DTSTART;TZID=America/Chicago:20240509T160000
DTEND;TZID=America/Chicago:20240509T180000
LOCATION:
SUMMARY:Arts & Crafts: Mothers Day Vases
END:VEVENT
END:VCALENDAR
