BEGIN:VCALENDAR
VERSION:2.0
PRODID:-//empowercdc.org//NONSGML kigkonsult.se iCalcreator 2.30.10//
CALSCALE:GREGORIAN
METHOD:PUBLISH
UID:555676f8-c873-4fa0-a905-acbf0203a606
X-WR-CALDESC:
X-WR-RELCALID:d4055b3f5f5c58aa97b07d68e4f9a94e
X-WR-TIMEZONE:America/Chicago
BEGIN:VTIMEZONE
TZID:America/Chicago
BEGIN:STANDARD
TZNAME:CST
DTSTART:20231105T020000
TZOFFSETFROM:-0500
TZOFFSETTO:-0600
RDATE:20241103T020000
RDATE:20251102T020000
END:STANDARD
BEGIN:DAYLIGHT
TZNAME:CDT
DTSTART:20240310T020000
TZOFFSETFROM:-0600
TZOFFSETTO:-0500
RDATE:20250309T020000
END:DAYLIGHT
END:VTIMEZONE
BEGIN:VEVENT
UID:ec013470-5e44-40cc-addb-6bbb73b7dc8d
DTSTAMP:20260422T145811Z
DESCRIPTION:
DTSTART;TZID=America/Chicago:20240509T110000
DTEND;TZID=America/Chicago:20240509T120000
LOCATION:
SUMMARY:Arts & Craft
END:VEVENT
END:VCALENDAR
