BEGIN:VCALENDAR
VERSION:2.0
PRODID:-//empowercdc.org//NONSGML kigkonsult.se iCalcreator 2.30.10//
CALSCALE:GREGORIAN
METHOD:PUBLISH
UID:2d69b4ee-4296-405c-861a-96b156c998e5
X-WR-CALDESC:
X-WR-RELCALID:ffa666e7336b4682b33a25dc45f2dd04
X-WR-TIMEZONE:America/Chicago
BEGIN:VTIMEZONE
TZID:America/Chicago
BEGIN:STANDARD
TZNAME:CST
DTSTART:20231105T020000
TZOFFSETFROM:-0500
TZOFFSETTO:-0600
RDATE:20241103T020000
RDATE:20251102T020000
END:STANDARD
BEGIN:DAYLIGHT
TZNAME:CDT
DTSTART:20240310T020000
TZOFFSETFROM:-0600
TZOFFSETTO:-0500
RDATE:20250309T020000
END:DAYLIGHT
END:VTIMEZONE
BEGIN:VEVENT
UID:30569642-ef5c-4c71-940e-523923876439
DTSTAMP:20260422T150113Z
DESCRIPTION:
DTSTART;TZID=America/Chicago:20240507T160000
DTEND;TZID=America/Chicago:20240507T170000
LOCATION:
SUMMARY:Fitness Bingo Exercise
END:VEVENT
END:VCALENDAR
