BEGIN:VCALENDAR
VERSION:2.0
PRODID:-//empowercdc.org//NONSGML kigkonsult.se iCalcreator 2.30.10//
CALSCALE:GREGORIAN
METHOD:PUBLISH
UID:d160e648-753e-448d-8e68-36fb1c66d176
X-WR-CALDESC:
X-WR-RELCALID:5a7ede640cfcdcc287abfb8f33e5b315
X-WR-TIMEZONE:America/Chicago
BEGIN:VTIMEZONE
TZID:America/Chicago
BEGIN:STANDARD
TZNAME:CST
DTSTART:20231105T020000
TZOFFSETFROM:-0500
TZOFFSETTO:-0600
RDATE:20241103T020000
RDATE:20251102T020000
END:STANDARD
BEGIN:DAYLIGHT
TZNAME:CDT
DTSTART:20240310T020000
TZOFFSETFROM:-0600
TZOFFSETTO:-0500
RDATE:20250309T020000
END:DAYLIGHT
END:VTIMEZONE
BEGIN:VEVENT
UID:2c11ed00-b06d-4c2f-80f4-a637dd62b6d7
DTSTAMP:20260422T150112Z
DESCRIPTION:
DTSTART;TZID=America/Chicago:20240507T130000
DTEND;TZID=America/Chicago:20240507T140000
LOCATION:
SUMMARY:Chair Yoga Exercise
END:VEVENT
END:VCALENDAR
