BEGIN:VCALENDAR
VERSION:2.0
PRODID:-//empowercdc.org//NONSGML kigkonsult.se iCalcreator 2.30.10//
CALSCALE:GREGORIAN
METHOD:PUBLISH
UID:e90905da-4caa-4889-898f-0bb981e925a9
X-WR-CALDESC:
X-WR-RELCALID:fb4579d41c9c05e0193ff3401f83a6c2
X-WR-TIMEZONE:America/Chicago
BEGIN:VTIMEZONE
TZID:America/Chicago
BEGIN:STANDARD
TZNAME:CST
DTSTART:20231105T020000
TZOFFSETFROM:-0500
TZOFFSETTO:-0600
RDATE:20241103T020000
RDATE:20251102T020000
END:STANDARD
BEGIN:DAYLIGHT
TZNAME:CDT
DTSTART:20240310T020000
TZOFFSETFROM:-0600
TZOFFSETTO:-0500
RDATE:20250309T020000
END:DAYLIGHT
END:VTIMEZONE
BEGIN:VEVENT
UID:7f8ad91e-d9f7-4f61-94d3-3abc6c155756
DTSTAMP:20260422T145810Z
DESCRIPTION:
DTSTART;TZID=America/Chicago:20240506T153000
DTEND;TZID=America/Chicago:20240506T170000
LOCATION:
SUMMARY:Exercise: Walk With Me Challenge
END:VEVENT
END:VCALENDAR
