BEGIN:VCALENDAR
VERSION:2.0
PRODID:-//empowercdc.org//NONSGML kigkonsult.se iCalcreator 2.30.10//
CALSCALE:GREGORIAN
METHOD:PUBLISH
UID:a32c4ddd-f2d3-49f0-8998-c036b017c288
X-WR-CALDESC:
X-WR-RELCALID:12e1e015f1fd199f057500d5f3017e47
X-WR-TIMEZONE:America/Chicago
BEGIN:VTIMEZONE
TZID:America/Chicago
BEGIN:STANDARD
TZNAME:CST
DTSTART:20231105T020000
TZOFFSETFROM:-0500
TZOFFSETTO:-0600
RDATE:20241103T020000
RDATE:20251102T020000
END:STANDARD
BEGIN:DAYLIGHT
TZNAME:CDT
DTSTART:20240310T020000
TZOFFSETFROM:-0600
TZOFFSETTO:-0500
RDATE:20250309T020000
END:DAYLIGHT
END:VTIMEZONE
BEGIN:VEVENT
UID:dd301086-6f73-4d9f-9158-ba743d661065
DTSTAMP:20260422T150119Z
DESCRIPTION:
DTSTART;TZID=America/Chicago:20240503T110000
DTEND;TZID=America/Chicago:20240503T220000
LOCATION:
SUMMARY:Birthday Lunch and Learn (AARP)
END:VEVENT
END:VCALENDAR
