BEGIN:VCALENDAR
VERSION:2.0
PRODID:-//empowercdc.org//NONSGML kigkonsult.se iCalcreator 2.30.10//
CALSCALE:GREGORIAN
METHOD:PUBLISH
UID:4993f449-fdbd-4261-b9fd-6d31b1b99a7d
X-WR-CALDESC:
X-WR-RELCALID:ae23d8b74f5cb9f40b822ad1677829ed
X-WR-TIMEZONE:America/Chicago
BEGIN:VTIMEZONE
TZID:America/Chicago
BEGIN:STANDARD
TZNAME:CST
DTSTART:20231105T020000
TZOFFSETFROM:-0500
TZOFFSETTO:-0600
RDATE:20241103T020000
RDATE:20251102T020000
END:STANDARD
BEGIN:DAYLIGHT
TZNAME:CDT
DTSTART:20240310T020000
TZOFFSETFROM:-0600
TZOFFSETTO:-0500
RDATE:20250309T020000
END:DAYLIGHT
END:VTIMEZONE
BEGIN:VEVENT
UID:35f47431-6992-48b9-9b72-9eb45b4657bb
DTSTAMP:20260422T145811Z
DESCRIPTION:
DTSTART;TZID=America/Chicago:20240503T160000
DTEND;TZID=America/Chicago:20240503T170000
LOCATION:
SUMMARY:Tai Chi Basics Exercise
END:VEVENT
END:VCALENDAR
