BEGIN:VCALENDAR
VERSION:2.0
PRODID:-//empowercdc.org//NONSGML kigkonsult.se iCalcreator 2.30.10//
CALSCALE:GREGORIAN
METHOD:PUBLISH
UID:31834129-0f7e-45f3-b328-816268f97117
X-WR-CALDESC:
X-WR-RELCALID:041c63b6eb5b23d134c96a346b615657
X-WR-TIMEZONE:America/Chicago
BEGIN:VTIMEZONE
TZID:America/Chicago
BEGIN:STANDARD
TZNAME:CST
DTSTART:20231105T020000
TZOFFSETFROM:-0500
TZOFFSETTO:-0600
RDATE:20241103T020000
END:STANDARD
BEGIN:DAYLIGHT
TZNAME:CDT
DTSTART:20240310T020000
TZOFFSETFROM:-0600
TZOFFSETTO:-0500
RDATE:20250309T020000
END:DAYLIGHT
END:VTIMEZONE
BEGIN:VEVENT
UID:fd43da0e-dbd3-4216-8bdb-1200920e09cb
DTSTAMP:20260422T150035Z
DESCRIPTION:
DTSTART;TZID=America/Chicago:20240502T160000
DTEND;TZID=America/Chicago:20240502T180000
LOCATION:
SUMMARY:Birthday Social
END:VEVENT
END:VCALENDAR
