BEGIN:VCALENDAR
VERSION:2.0
PRODID:-//empowercdc.org//NONSGML kigkonsult.se iCalcreator 2.30.10//
CALSCALE:GREGORIAN
METHOD:PUBLISH
UID:63ff4f92-2ee8-483d-b25d-d1050a0b61d6
X-WR-CALDESC:
X-WR-RELCALID:edac6fe211a79e6f2f4097cb39e04fec
X-WR-TIMEZONE:America/Chicago
BEGIN:VTIMEZONE
TZID:America/Chicago
BEGIN:STANDARD
TZNAME:CST
DTSTART:20231105T020000
TZOFFSETFROM:-0500
TZOFFSETTO:-0600
RDATE:20241103T020000
END:STANDARD
BEGIN:DAYLIGHT
TZNAME:CDT
DTSTART:20240310T020000
TZOFFSETFROM:-0600
TZOFFSETTO:-0500
RDATE:20250309T020000
END:DAYLIGHT
END:VTIMEZONE
BEGIN:VEVENT
UID:861cfd23-c13f-4cf0-9a89-943caa36727d
DTSTAMP:20260422T150105Z
DESCRIPTION:
DTSTART;TZID=America/Chicago:20240502T153000
DTEND;TZID=America/Chicago:20240502T170000
LOCATION:
SUMMARY:Birthday Social
END:VEVENT
END:VCALENDAR
