BEGIN:VCALENDAR
VERSION:2.0
PRODID:-//empowercdc.org//NONSGML kigkonsult.se iCalcreator 2.30.10//
CALSCALE:GREGORIAN
METHOD:PUBLISH
UID:73979d50-25c0-48ae-a6cd-9b7a57ba0d32
X-WR-CALDESC:
X-WR-RELCALID:6dad45485d98df462574f3d63ee600eb
X-WR-TIMEZONE:America/Chicago
BEGIN:VTIMEZONE
TZID:America/Chicago
BEGIN:STANDARD
TZNAME:CST
DTSTART:20231105T020000
TZOFFSETFROM:-0500
TZOFFSETTO:-0600
RDATE:20241103T020000
END:STANDARD
BEGIN:DAYLIGHT
TZNAME:CDT
DTSTART:20240310T020000
TZOFFSETFROM:-0600
TZOFFSETTO:-0500
RDATE:20250309T020000
END:DAYLIGHT
END:VTIMEZONE
BEGIN:VEVENT
UID:87f6f797-65ae-48c5-91c2-d827e04a5c78
DTSTAMP:20260422T145905Z
DESCRIPTION:
DTSTART;TZID=America/Chicago:20240502T130000
DTEND;TZID=America/Chicago:20240502T150000
LOCATION:
SUMMARY:Arts & Crafts
END:VEVENT
END:VCALENDAR
