BEGIN:VCALENDAR
VERSION:2.0
PRODID:-//empowercdc.org//NONSGML kigkonsult.se iCalcreator 2.30.10//
CALSCALE:GREGORIAN
METHOD:PUBLISH
UID:8d660914-a7a2-4ac3-9bc8-491d3a29c5de
X-WR-CALDESC:
X-WR-RELCALID:de19f420a1824f8bbcbcb0bc2829de1e
X-WR-TIMEZONE:America/Chicago
BEGIN:VTIMEZONE
TZID:America/Chicago
BEGIN:STANDARD
TZNAME:CST
DTSTART:20231105T020000
TZOFFSETFROM:-0500
TZOFFSETTO:-0600
RDATE:20241103T020000
END:STANDARD
BEGIN:DAYLIGHT
TZNAME:CDT
DTSTART:20240310T020000
TZOFFSETFROM:-0600
TZOFFSETTO:-0500
RDATE:20250309T020000
END:DAYLIGHT
END:VTIMEZONE
BEGIN:VEVENT
UID:729420b5-ba23-4b2f-89ba-e5e493e79480
DTSTAMP:20260422T145739Z
DESCRIPTION:
DTSTART;TZID=America/Chicago:20240501T133000
DTEND;TZID=America/Chicago:20240501T143000
LOCATION:
SUMMARY:Walk With Me Challenge Exercise
END:VEVENT
END:VCALENDAR
