BEGIN:VCALENDAR
VERSION:2.0
PRODID:-//empowercdc.org//NONSGML kigkonsult.se iCalcreator 2.30.10//
CALSCALE:GREGORIAN
METHOD:PUBLISH
UID:b4a2e357-806b-4a61-b38f-d7426fa04933
X-WR-CALDESC:
X-WR-RELCALID:be15f1e6189a882ba18102d20548f868
X-WR-TIMEZONE:America/Chicago
BEGIN:VTIMEZONE
TZID:America/Chicago
BEGIN:STANDARD
TZNAME:CST
DTSTART:20231105T020000
TZOFFSETFROM:-0500
TZOFFSETTO:-0600
RDATE:20241103T020000
END:STANDARD
BEGIN:DAYLIGHT
TZNAME:CDT
DTSTART:20240310T020000
TZOFFSETFROM:-0600
TZOFFSETTO:-0500
RDATE:20250309T020000
END:DAYLIGHT
END:VTIMEZONE
BEGIN:VEVENT
UID:fb76b04d-bc47-4968-b4db-da8713495b19
DTSTAMP:20260422T145939Z
DESCRIPTION:
DTSTART;TZID=America/Chicago:20240501T153000
DTEND;TZID=America/Chicago:20240501T160000
LOCATION:
SUMMARY:Exercise: Walk With Me Challenge  (Copy)
END:VEVENT
END:VCALENDAR
