BEGIN:VCALENDAR
VERSION:2.0
PRODID:-//empowercdc.org//NONSGML kigkonsult.se iCalcreator 2.30.10//
CALSCALE:GREGORIAN
METHOD:PUBLISH
UID:2d25b44c-40f7-4500-b933-a1a8ff9fd945
X-WR-CALDESC:
X-WR-RELCALID:9fef81740b1f2a0d24ae06edd2578aad
X-WR-TIMEZONE:America/Chicago
BEGIN:VTIMEZONE
TZID:America/Chicago
BEGIN:STANDARD
TZNAME:CST
DTSTART:20231105T020000
TZOFFSETFROM:-0500
TZOFFSETTO:-0600
RDATE:20241103T020000
END:STANDARD
BEGIN:DAYLIGHT
TZNAME:CDT
DTSTART:20240310T020000
TZOFFSETFROM:-0600
TZOFFSETTO:-0500
RDATE:20250309T020000
END:DAYLIGHT
END:VTIMEZONE
BEGIN:VEVENT
UID:03e48fed-9bcd-4de3-a4f7-a4d14da48985
DTSTAMP:20260422T145804Z
DESCRIPTION:
DTSTART;TZID=America/Chicago:20240501T153000
DTEND;TZID=America/Chicago:20240501T160000
LOCATION:
SUMMARY:Exercise: Walk With Me Challenge
END:VEVENT
END:VCALENDAR
