BEGIN:VCALENDAR
VERSION:2.0
PRODID:-//empowercdc.org//NONSGML kigkonsult.se iCalcreator 2.30.10//
CALSCALE:GREGORIAN
METHOD:PUBLISH
UID:f713613e-0a6e-4a6f-ba3a-3bcd67cb00ff
X-WR-CALDESC:
X-WR-RELCALID:2c02d1173a616e78edb3a5111764dc82
X-WR-TIMEZONE:America/Chicago
BEGIN:VTIMEZONE
TZID:America/Chicago
BEGIN:STANDARD
TZNAME:CST
DTSTART:20221106T020000
TZOFFSETFROM:-0500
TZOFFSETTO:-0600
RDATE:20231105T020000
END:STANDARD
BEGIN:DAYLIGHT
TZNAME:CDT
DTSTART:20230312T020000
TZOFFSETFROM:-0600
TZOFFSETTO:-0500
RDATE:20240310T020000
END:DAYLIGHT
END:VTIMEZONE
BEGIN:VEVENT
UID:52e7c7d0-4b7c-4fcc-9240-cda59f5af237
DTSTAMP:20260423T053308Z
DESCRIPTION:
DTSTART;TZID=America/Chicago:20230330T120000
DTEND;TZID=America/Chicago:20230330T130000
LOCATION:Hollyoak
SUMMARY:March of Dimes Walk
END:VEVENT
END:VCALENDAR
