BEGIN:VCALENDAR
VERSION:2.0
PRODID:-//empowercdc.org//NONSGML kigkonsult.se iCalcreator 2.30.10//
CALSCALE:GREGORIAN
METHOD:PUBLISH
UID:5746085e-4b93-414d-b799-ba3f061f65e5
X-WR-CALDESC:
X-WR-RELCALID:9014590523d0b0e75a67301f4d0e6fe8
X-WR-TIMEZONE:America/Chicago
BEGIN:VTIMEZONE
TZID:America/Chicago
BEGIN:STANDARD
TZNAME:CST
DTSTART:20221106T020000
TZOFFSETFROM:-0500
TZOFFSETTO:-0600
RDATE:20231105T020000
END:STANDARD
BEGIN:DAYLIGHT
TZNAME:CDT
DTSTART:20230312T020000
TZOFFSETFROM:-0600
TZOFFSETTO:-0500
RDATE:20240310T020000
END:DAYLIGHT
END:VTIMEZONE
BEGIN:VEVENT
UID:89ae6f40-f09e-489b-ad78-f21e8368db95
DTSTAMP:20260422T101504Z
DESCRIPTION:
DTSTART;TZID=America/Chicago:20230327T150000
DTEND;TZID=America/Chicago:20230327T160000
LOCATION:The Brittmoore
SUMMARY:Start With a Dime(Financial Planning)
END:VEVENT
END:VCALENDAR
