BEGIN:VCALENDAR
VERSION:2.0
PRODID:-//empowercdc.org//NONSGML kigkonsult.se iCalcreator 2.30.10//
CALSCALE:GREGORIAN
METHOD:PUBLISH
UID:3a9f37ac-c381-487e-9528-e12d0f1d10bc
X-WR-CALDESC:
X-WR-RELCALID:2bf1097c6b4e4d359f78b524379b38c8
X-WR-TIMEZONE:America/Chicago
BEGIN:VTIMEZONE
TZID:America/Chicago
BEGIN:STANDARD
TZNAME:CST
DTSTART:20221106T020000
TZOFFSETFROM:-0500
TZOFFSETTO:-0600
RDATE:20231105T020000
END:STANDARD
BEGIN:DAYLIGHT
TZNAME:CDT
DTSTART:20230312T020000
TZOFFSETFROM:-0600
TZOFFSETTO:-0500
RDATE:20240310T020000
END:DAYLIGHT
END:VTIMEZONE
BEGIN:VEVENT
UID:87bc20b7-3abf-4ccf-a170-e352e7428154
DTSTAMP:20260423T053656Z
DESCRIPTION:
DTSTART;TZID=America/Chicago:20230323T130000
DTEND;TZID=America/Chicago:20230323T140000
LOCATION:Hollyoak
SUMMARY:Lucky Charms Casino
END:VEVENT
END:VCALENDAR
