BEGIN:VCALENDAR
VERSION:2.0
PRODID:-//empowercdc.org//NONSGML kigkonsult.se iCalcreator 2.30.10//
CALSCALE:GREGORIAN
METHOD:PUBLISH
UID:e6db1f89-a330-46e6-b70c-1993fd608373
X-WR-CALDESC:
X-WR-RELCALID:db82399aea531d02864af933cabcf2a4
X-WR-TIMEZONE:America/Chicago
BEGIN:VTIMEZONE
TZID:America/Chicago
BEGIN:STANDARD
TZNAME:CST
DTSTART:20221106T020000
TZOFFSETFROM:-0500
TZOFFSETTO:-0600
RDATE:20231105T020000
END:STANDARD
BEGIN:DAYLIGHT
TZNAME:CDT
DTSTART:20230312T020000
TZOFFSETFROM:-0600
TZOFFSETTO:-0500
RDATE:20240310T020000
END:DAYLIGHT
END:VTIMEZONE
BEGIN:VEVENT
UID:e976a800-b3c3-4df0-88cc-7358efd84126
DTSTAMP:20260423T054020Z
DESCRIPTION:
DTSTART;TZID=America/Chicago:20230323T120000
DTEND;TZID=America/Chicago:20230323T130000
LOCATION:Hollyoak
SUMMARY:March of Dimes Walk
END:VEVENT
END:VCALENDAR
