BEGIN:VCALENDAR
VERSION:2.0
PRODID:-//empowercdc.org//NONSGML kigkonsult.se iCalcreator 2.30.10//
CALSCALE:GREGORIAN
METHOD:PUBLISH
UID:b8391791-7ef0-4163-b72c-a6c5c339d86f
X-WR-CALDESC:
X-WR-RELCALID:a8770f51ca878240c818c964c24c3852
X-WR-TIMEZONE:America/Chicago
BEGIN:VTIMEZONE
TZID:America/Chicago
BEGIN:STANDARD
TZNAME:CST
DTSTART:20221106T020000
TZOFFSETFROM:-0500
TZOFFSETTO:-0600
RDATE:20231105T020000
END:STANDARD
BEGIN:DAYLIGHT
TZNAME:CDT
DTSTART:20230312T020000
TZOFFSETFROM:-0600
TZOFFSETTO:-0500
RDATE:20240310T020000
END:DAYLIGHT
END:VTIMEZONE
BEGIN:VEVENT
UID:cf3704ab-3e63-460d-a894-19b56e300939
DTSTAMP:20260423T053702Z
DESCRIPTION:
DTSTART;TZID=America/Chicago:20230320T150000
DTEND;TZID=America/Chicago:20230320T160000
LOCATION:The Brittmoore
SUMMARY:March of Dimes Art
END:VEVENT
END:VCALENDAR
