BEGIN:VCALENDAR
VERSION:2.0
PRODID:-//empowercdc.org//NONSGML kigkonsult.se iCalcreator 2.30.10//
CALSCALE:GREGORIAN
METHOD:PUBLISH
UID:7ed71595-4ccf-4f9a-b944-232f596721eb
X-WR-CALDESC:
X-WR-RELCALID:caa20bee97125dc98f0ac3d12f8cfdab
X-WR-TIMEZONE:America/Chicago
BEGIN:VTIMEZONE
TZID:America/Chicago
BEGIN:STANDARD
TZNAME:CST
DTSTART:20221106T020000
TZOFFSETFROM:-0500
TZOFFSETTO:-0600
RDATE:20231105T020000
END:STANDARD
BEGIN:DAYLIGHT
TZNAME:CDT
DTSTART:20230312T020000
TZOFFSETFROM:-0600
TZOFFSETTO:-0500
RDATE:20240310T020000
END:DAYLIGHT
END:VTIMEZONE
BEGIN:VEVENT
UID:bbc97138-91c7-49b7-a9e3-1ba1b241cf7a
DTSTAMP:20260423T053935Z
DESCRIPTION:
DTSTART;TZID=America/Chicago:20230320T140000
DTEND;TZID=America/Chicago:20230320T150000
LOCATION:The Brittmoore
SUMMARY:March of Dimes Walk
END:VEVENT
END:VCALENDAR
