BEGIN:VCALENDAR
VERSION:2.0
PRODID:-//empowercdc.org//NONSGML kigkonsult.se iCalcreator 2.30.10//
CALSCALE:GREGORIAN
METHOD:PUBLISH
UID:12a0152e-b5ff-479b-9c95-eac9e53fd9f4
X-WR-CALDESC:
X-WR-RELCALID:639eaf9aeecb9a557ebd88070ec78f68
X-WR-TIMEZONE:America/Chicago
BEGIN:VTIMEZONE
TZID:America/Chicago
BEGIN:STANDARD
TZNAME:CST
DTSTART:20221106T020000
TZOFFSETFROM:-0500
TZOFFSETTO:-0600
RDATE:20231105T020000
END:STANDARD
BEGIN:DAYLIGHT
TZNAME:CDT
DTSTART:20230312T020000
TZOFFSETFROM:-0600
TZOFFSETTO:-0500
RDATE:20240310T020000
END:DAYLIGHT
END:VTIMEZONE
BEGIN:VEVENT
UID:1bed8341-709d-4967-adb9-1b64ec4f58db
DTSTAMP:20260423T053537Z
DESCRIPTION:
DTSTART;TZID=America/Chicago:20230316T110000
DTEND;TZID=America/Chicago:20230316T120000
LOCATION:Hollyoak
SUMMARY:Lucky Charms Art
END:VEVENT
END:VCALENDAR
