BEGIN:VCALENDAR
VERSION:2.0
PRODID:-//empowercdc.org//NONSGML kigkonsult.se iCalcreator 2.30.10//
CALSCALE:GREGORIAN
METHOD:PUBLISH
UID:eca1cbb9-0bf8-4207-9c95-535bf7776e71
X-WR-CALDESC:
X-WR-RELCALID:91902e78392eeb6352c37d75cfeb640a
X-WR-TIMEZONE:America/Chicago
BEGIN:VTIMEZONE
TZID:America/Chicago
BEGIN:STANDARD
TZNAME:CST
DTSTART:20221106T020000
TZOFFSETFROM:-0500
TZOFFSETTO:-0600
RDATE:20231105T020000
END:STANDARD
BEGIN:DAYLIGHT
TZNAME:CDT
DTSTART:20230312T020000
TZOFFSETFROM:-0600
TZOFFSETTO:-0500
RDATE:20240310T020000
END:DAYLIGHT
END:VTIMEZONE
BEGIN:VEVENT
UID:10b33093-7475-435f-bb2a-6d9e3fea4f80
DTSTAMP:20260423T053952Z
DESCRIPTION:
DTSTART;TZID=America/Chicago:20230316T120000
DTEND;TZID=America/Chicago:20230316T130000
LOCATION:Hollyoak
SUMMARY:March of Dimes Walk
END:VEVENT
END:VCALENDAR
