BEGIN:VCALENDAR
VERSION:2.0
PRODID:-//empowercdc.org//NONSGML kigkonsult.se iCalcreator 2.30.10//
CALSCALE:GREGORIAN
METHOD:PUBLISH
UID:d170fdd9-5453-4326-912a-12f234be8507
X-WR-CALDESC:
X-WR-RELCALID:25ccb9d7f5ae1d3634cb4f814a5dfe5f
X-WR-TIMEZONE:America/Chicago
BEGIN:VTIMEZONE
TZID:America/Chicago
BEGIN:STANDARD
TZNAME:CST
DTSTART:20221106T020000
TZOFFSETFROM:-0500
TZOFFSETTO:-0600
RDATE:20231105T020000
END:STANDARD
BEGIN:DAYLIGHT
TZNAME:CDT
DTSTART:20220313T020000
TZOFFSETFROM:-0600
TZOFFSETTO:-0500
RDATE:20230312T020000
RDATE:20240310T020000
END:DAYLIGHT
END:VTIMEZONE
BEGIN:VEVENT
UID:7c82e5db-ab54-4d43-9c98-108ce13bd915
DTSTAMP:20260423T053425Z
DESCRIPTION:
DTSTART;TZID=America/Chicago:20230313T150000
DTEND;TZID=America/Chicago:20230313T160000
LOCATION:The Brittmoore
SUMMARY:Rodeo Day Social
END:VEVENT
END:VCALENDAR
