BEGIN:VCALENDAR
VERSION:2.0
PRODID:-//empowercdc.org//NONSGML kigkonsult.se iCalcreator 2.30.10//
CALSCALE:GREGORIAN
METHOD:PUBLISH
UID:5a8a36e8-8e3f-49b4-a666-f0d8dc4f624a
X-WR-CALDESC:
X-WR-RELCALID:b773602afcc1c6d2c0e7a54414ffac2d
X-WR-TIMEZONE:America/Chicago
BEGIN:VTIMEZONE
TZID:America/Chicago
BEGIN:STANDARD
TZNAME:CST
DTSTART:20221106T020000
TZOFFSETFROM:-0500
TZOFFSETTO:-0600
RDATE:20231105T020000
END:STANDARD
BEGIN:DAYLIGHT
TZNAME:CDT
DTSTART:20220313T020000
TZOFFSETFROM:-0600
TZOFFSETTO:-0500
RDATE:20230312T020000
RDATE:20240310T020000
END:DAYLIGHT
END:VTIMEZONE
BEGIN:VEVENT
UID:4175e70f-4a8a-4713-b473-002a1b9e52a8
DTSTAMP:20260423T054020Z
DESCRIPTION:
DTSTART;TZID=America/Chicago:20230313T140000
DTEND;TZID=America/Chicago:20230313T150000
LOCATION:The Brittmoore
SUMMARY:March of Dimes Walk
END:VEVENT
END:VCALENDAR
