BEGIN:VCALENDAR
VERSION:2.0
PRODID:-//empowercdc.org//NONSGML kigkonsult.se iCalcreator 2.30.10//
CALSCALE:GREGORIAN
METHOD:PUBLISH
UID:ae30db2c-97a9-4913-a208-a40a222ce717
X-WR-CALDESC:
X-WR-RELCALID:3de132b63e42115c39f4bbbe140f67fc
X-WR-TIMEZONE:America/Chicago
BEGIN:VTIMEZONE
TZID:America/Chicago
BEGIN:STANDARD
TZNAME:CST
DTSTART:20221106T020000
TZOFFSETFROM:-0500
TZOFFSETTO:-0600
RDATE:20231105T020000
END:STANDARD
BEGIN:DAYLIGHT
TZNAME:CDT
DTSTART:20220313T020000
TZOFFSETFROM:-0600
TZOFFSETTO:-0500
RDATE:20230312T020000
RDATE:20240310T020000
END:DAYLIGHT
END:VTIMEZONE
BEGIN:VEVENT
UID:cbcf4195-72a6-4efe-9fb5-132bde0027df
DTSTAMP:20260423T054243Z
DESCRIPTION:
DTSTART;TZID=America/Chicago:20230309T100000
DTEND;TZID=America/Chicago:20230309T110000
LOCATION:Hollyoak
SUMMARY:Village Medical and Unicare(Outreach)
END:VEVENT
END:VCALENDAR
