BEGIN:VCALENDAR
VERSION:2.0
PRODID:-//empowercdc.org//NONSGML kigkonsult.se iCalcreator 2.30.10//
CALSCALE:GREGORIAN
METHOD:PUBLISH
UID:686c760f-81f9-4cdd-861c-ef98ef236df4
X-WR-CALDESC:
X-WR-RELCALID:7ccefdffaeefa8a27394a97a2e991ed9
X-WR-TIMEZONE:America/Chicago
BEGIN:VTIMEZONE
TZID:America/Chicago
BEGIN:STANDARD
TZNAME:CST
DTSTART:20221106T020000
TZOFFSETFROM:-0500
TZOFFSETTO:-0600
RDATE:20231105T020000
END:STANDARD
BEGIN:DAYLIGHT
TZNAME:CDT
DTSTART:20220313T020000
TZOFFSETFROM:-0600
TZOFFSETTO:-0500
RDATE:20230312T020000
RDATE:20240310T020000
END:DAYLIGHT
END:VTIMEZONE
BEGIN:VEVENT
UID:b1436402-ebec-4df2-ab52-715983718041
DTSTAMP:20260423T053419Z
DESCRIPTION:
DTSTART;TZID=America/Chicago:20230309T110000
DTEND;TZID=America/Chicago:20230309T120000
LOCATION:Hollyoak
SUMMARY:Rodeo Day Social
END:VEVENT
END:VCALENDAR
