BEGIN:VCALENDAR
VERSION:2.0
PRODID:-//empowercdc.org//NONSGML kigkonsult.se iCalcreator 2.30.10//
CALSCALE:GREGORIAN
METHOD:PUBLISH
UID:de1186f5-a87b-4181-8b2e-32c58d626fc0
X-WR-CALDESC:
X-WR-RELCALID:10ab8afa6bf3bd96c42d7003531d1436
X-WR-TIMEZONE:America/Chicago
BEGIN:VTIMEZONE
TZID:America/Chicago
BEGIN:STANDARD
TZNAME:CST
DTSTART:20221106T020000
TZOFFSETFROM:-0500
TZOFFSETTO:-0600
RDATE:20231105T020000
END:STANDARD
BEGIN:DAYLIGHT
TZNAME:CDT
DTSTART:20220313T020000
TZOFFSETFROM:-0600
TZOFFSETTO:-0500
RDATE:20230312T020000
RDATE:20240310T020000
END:DAYLIGHT
END:VTIMEZONE
BEGIN:VEVENT
UID:6ebe47bf-60ed-431b-bc02-7c75180a46f9
DTSTAMP:20260423T053952Z
DESCRIPTION:
DTSTART;TZID=America/Chicago:20230309T120000
DTEND;TZID=America/Chicago:20230309T130000
LOCATION:Hollyoak
SUMMARY:March of Dimes Walk
END:VEVENT
END:VCALENDAR
