BEGIN:VCALENDAR
VERSION:2.0
PRODID:-//empowercdc.org//NONSGML kigkonsult.se iCalcreator 2.30.10//
CALSCALE:GREGORIAN
METHOD:PUBLISH
UID:5978639e-0d40-44bf-84c9-d6adc1c9fbe7
X-WR-CALDESC:
X-WR-RELCALID:e5d693fffa34bc3be56b21f59ab6e441
X-WR-TIMEZONE:America/Chicago
BEGIN:VTIMEZONE
TZID:America/Chicago
BEGIN:STANDARD
TZNAME:CST
DTSTART:20221106T020000
TZOFFSETFROM:-0500
TZOFFSETTO:-0600
RDATE:20231105T020000
END:STANDARD
BEGIN:DAYLIGHT
TZNAME:CDT
DTSTART:20220313T020000
TZOFFSETFROM:-0600
TZOFFSETTO:-0500
RDATE:20230312T020000
RDATE:20240310T020000
END:DAYLIGHT
END:VTIMEZONE
BEGIN:VEVENT
UID:b39f8f31-bd7c-4b10-80e2-eb3d1dc6b1e6
DTSTAMP:20260423T053650Z
DESCRIPTION:
DTSTART;TZID=America/Chicago:20230302T110000
DTEND;TZID=America/Chicago:20230302T120000
LOCATION:Hollyoak
SUMMARY:Rodeo Horse Shoe Art
END:VEVENT
END:VCALENDAR
