BEGIN:VCALENDAR
VERSION:2.0
PRODID:-//empowercdc.org//NONSGML kigkonsult.se iCalcreator 2.30.10//
CALSCALE:GREGORIAN
METHOD:PUBLISH
UID:e66afd9a-8321-457d-a2da-e85a7499ba07
X-WR-CALDESC:
X-WR-RELCALID:fbddd128d84301cc5552630d24974817
X-WR-TIMEZONE:America/Chicago
BEGIN:VTIMEZONE
TZID:America/Chicago
BEGIN:STANDARD
TZNAME:CST
DTSTART:20221106T020000
TZOFFSETFROM:-0500
TZOFFSETTO:-0600
RDATE:20231105T020000
END:STANDARD
BEGIN:DAYLIGHT
TZNAME:CDT
DTSTART:20220313T020000
TZOFFSETFROM:-0600
TZOFFSETTO:-0500
RDATE:20230312T020000
RDATE:20240310T020000
END:DAYLIGHT
END:VTIMEZONE
BEGIN:VEVENT
UID:fd07966a-70d5-4860-9be8-c5b657e6f505
DTSTAMP:20260423T053935Z
DESCRIPTION:
DTSTART;TZID=America/Chicago:20230302T120000
DTEND;TZID=America/Chicago:20230302T130000
LOCATION:Hollyoak
SUMMARY:March of Dimes Walk
END:VEVENT
END:VCALENDAR
