BEGIN:VCALENDAR
VERSION:2.0
PRODID:-//empowercdc.org//NONSGML kigkonsult.se iCalcreator 2.30.10//
CALSCALE:GREGORIAN
METHOD:PUBLISH
UID:eec13b6e-4132-481d-bd15-8ce99143506c
X-WR-CALDESC:
X-WR-RELCALID:215564795d4cedaa8c65913297b2c757
X-WR-TIMEZONE:America/Chicago
BEGIN:VTIMEZONE
TZID:America/Chicago
BEGIN:STANDARD
TZNAME:CST
DTSTART:20221106T020000
TZOFFSETFROM:-0500
TZOFFSETTO:-0600
RDATE:20231105T020000
END:STANDARD
BEGIN:DAYLIGHT
TZNAME:CDT
DTSTART:20220313T020000
TZOFFSETFROM:-0600
TZOFFSETTO:-0500
RDATE:20230312T020000
RDATE:20240310T020000
END:DAYLIGHT
END:VTIMEZONE
BEGIN:VEVENT
UID:afdca53a-5914-4fe3-adeb-7b45438ddf62
DTSTAMP:20260423T070522Z
DESCRIPTION:
DTSTART;TZID=America/Chicago:20230214T140000
DTEND;TZID=America/Chicago:20230214T150000
LOCATION:
SUMMARY:Simply Fit
END:VEVENT
END:VCALENDAR
