BEGIN:VCALENDAR
VERSION:2.0
PRODID:-//empowercdc.org//NONSGML kigkonsult.se iCalcreator 2.30.10//
CALSCALE:GREGORIAN
METHOD:PUBLISH
UID:cc421bc8-c02c-4e98-8d8d-5f0dd0d325ca
X-WR-CALDESC:
X-WR-RELCALID:b35aac93c90136100f11ea67553e2592
X-WR-TIMEZONE:America/Chicago
BEGIN:VTIMEZONE
TZID:America/Chicago
BEGIN:STANDARD
TZNAME:CST
DTSTART:20221106T020000
TZOFFSETFROM:-0500
TZOFFSETTO:-0600
RDATE:20231105T020000
END:STANDARD
BEGIN:DAYLIGHT
TZNAME:CDT
DTSTART:20220313T020000
TZOFFSETFROM:-0600
TZOFFSETTO:-0500
RDATE:20230312T020000
RDATE:20240310T020000
END:DAYLIGHT
END:VTIMEZONE
BEGIN:VEVENT
UID:1846ca85-9926-4e79-90f5-53fe3f6077eb
DTSTAMP:20260423T070838Z
DESCRIPTION:
DTSTART;TZID=America/Chicago:20230213T100000
DTEND;TZID=America/Chicago:20230213T110000
LOCATION:
SUMMARY:Resident Led Bingo
END:VEVENT
END:VCALENDAR
