BEGIN:VCALENDAR
VERSION:2.0
PRODID:-//empowercdc.org//NONSGML kigkonsult.se iCalcreator 2.30.10//
CALSCALE:GREGORIAN
METHOD:PUBLISH
UID:52c51e74-325a-4ca2-be41-c98039ebfba2
X-WR-CALDESC:
X-WR-RELCALID:383d0abc7136bd840bd42f46d7c8e3d9
X-WR-TIMEZONE:America/Chicago
BEGIN:VTIMEZONE
TZID:America/Chicago
BEGIN:STANDARD
TZNAME:CST
DTSTART:20221106T020000
TZOFFSETFROM:-0500
TZOFFSETTO:-0600
RDATE:20231105T020000
END:STANDARD
BEGIN:DAYLIGHT
TZNAME:CDT
DTSTART:20220313T020000
TZOFFSETFROM:-0600
TZOFFSETTO:-0500
RDATE:20230312T020000
RDATE:20240310T020000
END:DAYLIGHT
END:VTIMEZONE
BEGIN:VEVENT
UID:201634fb-db16-411b-8a81-d883463805aa
DTSTAMP:20260423T070521Z
DESCRIPTION:
DTSTART;TZID=America/Chicago:20230207T140000
DTEND;TZID=America/Chicago:20230207T150000
LOCATION:
SUMMARY:Simply Fit
END:VEVENT
END:VCALENDAR
