BEGIN:VCALENDAR
VERSION:2.0
PRODID:-//empowercdc.org//NONSGML kigkonsult.se iCalcreator 2.30.10//
CALSCALE:GREGORIAN
METHOD:PUBLISH
UID:e4c1340f-7d6a-4001-a226-e524c71fd077
X-WR-CALDESC:
X-WR-RELCALID:ae267110482823f7c7a1631087749cb2
X-WR-TIMEZONE:America/Chicago
BEGIN:VTIMEZONE
TZID:America/Chicago
BEGIN:STANDARD
TZNAME:CST
DTSTART:20221106T020000
TZOFFSETFROM:-0500
TZOFFSETTO:-0600
RDATE:20231105T020000
END:STANDARD
BEGIN:DAYLIGHT
TZNAME:CDT
DTSTART:20220313T020000
TZOFFSETFROM:-0600
TZOFFSETTO:-0500
RDATE:20230312T020000
RDATE:20240310T020000
END:DAYLIGHT
END:VTIMEZONE
BEGIN:VEVENT
UID:64a894d8-d035-4813-ba52-d05ab8c8275e
DTSTAMP:20260423T084930Z
DESCRIPTION:
DTSTART;TZID=America/Chicago:20230131T140000
DTEND;TZID=America/Chicago:20230131T150000
LOCATION:
SUMMARY:Simply Fit
END:VEVENT
END:VCALENDAR
