BEGIN:VCALENDAR
VERSION:2.0
PRODID:-//empowercdc.org//NONSGML kigkonsult.se iCalcreator 2.30.10//
CALSCALE:GREGORIAN
METHOD:PUBLISH
UID:61c10a8c-ae4a-4b72-93a0-a80a66950a57
X-WR-CALDESC:Exercise: Virtual exercise via zoom.  Different techniques are
  used to to help the residents stay Simply Fit.
X-WR-RELCALID:60ff0077f30a107758228236c2f024fc
X-WR-TIMEZONE:America/Chicago
BEGIN:VTIMEZONE
TZID:America/Chicago
BEGIN:STANDARD
TZNAME:CST
DTSTART:20221106T020000
TZOFFSETFROM:-0500
TZOFFSETTO:-0600
RDATE:20231105T020000
END:STANDARD
BEGIN:DAYLIGHT
TZNAME:CDT
DTSTART:20220313T020000
TZOFFSETFROM:-0600
TZOFFSETTO:-0500
RDATE:20230312T020000
RDATE:20240310T020000
END:DAYLIGHT
END:VTIMEZONE
BEGIN:VEVENT
UID:7af5ab55-0a50-4b8a-b024-31382316db27
DTSTAMP:20260423T083233Z
DESCRIPTION:Exercise: Virtual exercise via zoom.  Different techniques are 
 used to to help the residents stay Simply Fit.
DTSTART;TZID=America/Chicago:20230125T140000
DTEND;TZID=America/Chicago:20230125T150000
LOCATION:
SUMMARY:Exercise:  Simply Fit
END:VEVENT
END:VCALENDAR
