BEGIN:VCALENDAR
VERSION:2.0
PRODID:-//empowercdc.org//NONSGML kigkonsult.se iCalcreator 2.30.10//
CALSCALE:GREGORIAN
METHOD:PUBLISH
UID:68171ac8-c71f-4e74-917f-62fef15742f6
X-WR-CALDESC:
X-WR-RELCALID:606803b47f5d6263a473420fb20e7ee1
X-WR-TIMEZONE:America/Chicago
BEGIN:VTIMEZONE
TZID:America/Chicago
BEGIN:STANDARD
TZNAME:CST
DTSTART:20221106T020000
TZOFFSETFROM:-0500
TZOFFSETTO:-0600
RDATE:20231105T020000
END:STANDARD
BEGIN:DAYLIGHT
TZNAME:CDT
DTSTART:20220313T020000
TZOFFSETFROM:-0600
TZOFFSETTO:-0500
RDATE:20230312T020000
RDATE:20240310T020000
END:DAYLIGHT
END:VTIMEZONE
BEGIN:VEVENT
UID:a4252275-9b17-425b-95dd-94e0ddadd9a3
DTSTAMP:20260423T085750Z
DESCRIPTION:
DTSTART;TZID=America/Chicago:20230120T110000
DTEND;TZID=America/Chicago:20230120T120000
LOCATION:
SUMMARY:Sit and Be Fit @ Campanile at Jones Creek
END:VEVENT
END:VCALENDAR
