BEGIN:VCALENDAR
VERSION:2.0
PRODID:-//empowercdc.org//NONSGML kigkonsult.se iCalcreator 2.30.10//
CALSCALE:GREGORIAN
METHOD:PUBLISH
UID:69c14d7a-000d-4144-8420-8fa4759667ee
X-WR-CALDESC:Exercise: Virtual exercise via zoom.  Different techniques are
  used to to help the residents stay Simply Fit.
X-WR-RELCALID:da348cc263ead41521341e5021821a70
X-WR-TIMEZONE:America/Chicago
BEGIN:VTIMEZONE
TZID:America/Chicago
BEGIN:STANDARD
TZNAME:CST
DTSTART:20221106T020000
TZOFFSETFROM:-0500
TZOFFSETTO:-0600
RDATE:20231105T020000
END:STANDARD
BEGIN:DAYLIGHT
TZNAME:CDT
DTSTART:20220313T020000
TZOFFSETFROM:-0600
TZOFFSETTO:-0500
RDATE:20230312T020000
RDATE:20240310T020000
END:DAYLIGHT
END:VTIMEZONE
BEGIN:VEVENT
UID:253b879c-fd5f-41bd-a929-b9e9462dbd69
DTSTAMP:20260423T084930Z
DESCRIPTION:Exercise: Virtual exercise via zoom.  Different techniques are 
 used to to help the residents stay Simply Fit.
DTSTART;TZID=America/Chicago:20230118T140000
DTEND;TZID=America/Chicago:20230118T150000
LOCATION:
SUMMARY:Exercise:  Simply Fit
END:VEVENT
END:VCALENDAR
