BEGIN:VCALENDAR
VERSION:2.0
PRODID:-//empowercdc.org//NONSGML kigkonsult.se iCalcreator 2.30.10//
CALSCALE:GREGORIAN
METHOD:PUBLISH
UID:2f66fece-61d0-4b02-ac3a-8cba1b8bd55b
X-WR-CALDESC:
X-WR-RELCALID:9626a37cdde725efc549123c992e9e6d
X-WR-TIMEZONE:America/Chicago
BEGIN:VTIMEZONE
TZID:America/Chicago
BEGIN:STANDARD
TZNAME:CST
DTSTART:20221106T020000
TZOFFSETFROM:-0500
TZOFFSETTO:-0600
RDATE:20231105T020000
END:STANDARD
BEGIN:DAYLIGHT
TZNAME:CDT
DTSTART:20220313T020000
TZOFFSETFROM:-0600
TZOFFSETTO:-0500
RDATE:20230312T020000
RDATE:20240310T020000
END:DAYLIGHT
END:VTIMEZONE
BEGIN:VEVENT
UID:49275804-76ce-44c2-bf86-f6b0fbb271d6
DTSTAMP:20260423T083525Z
DESCRIPTION:
DTSTART;TZID=America/Chicago:20230117T140000
DTEND;TZID=America/Chicago:20230117T150000
LOCATION:
SUMMARY:Simply Fit
END:VEVENT
END:VCALENDAR
