BEGIN:VCALENDAR
VERSION:2.0
PRODID:-//empowercdc.org//NONSGML kigkonsult.se iCalcreator 2.30.10//
CALSCALE:GREGORIAN
METHOD:PUBLISH
UID:03ca092b-c315-4274-9b86-a192369b01d0
X-WR-CALDESC:Exercise: Virtual exercise via zoom.  Different techniques are
  used to to help the residents stay Simply Fit.
X-WR-RELCALID:258c4352189632c8f4bae2ccb37ea7d7
X-WR-TIMEZONE:America/Chicago
BEGIN:VTIMEZONE
TZID:America/Chicago
BEGIN:STANDARD
TZNAME:CST
DTSTART:20221106T020000
TZOFFSETFROM:-0500
TZOFFSETTO:-0600
RDATE:20231105T020000
END:STANDARD
BEGIN:DAYLIGHT
TZNAME:CDT
DTSTART:20220313T020000
TZOFFSETFROM:-0600
TZOFFSETTO:-0500
RDATE:20230312T020000
RDATE:20240310T020000
END:DAYLIGHT
END:VTIMEZONE
BEGIN:VEVENT
UID:e1c11533-cf26-448b-a048-57dab83fcaa5
DTSTAMP:20260423T083226Z
DESCRIPTION:Exercise: Virtual exercise via zoom.  Different techniques are 
 used to to help the residents stay Simply Fit.
DTSTART;TZID=America/Chicago:20230105T140000
DTEND;TZID=America/Chicago:20230105T150000
LOCATION:
SUMMARY:Exercise:  Simply Fit
END:VEVENT
END:VCALENDAR
