BEGIN:VCALENDAR
VERSION:2.0
PRODID:-//empowercdc.org//NONSGML kigkonsult.se iCalcreator 2.30.10//
CALSCALE:GREGORIAN
METHOD:PUBLISH
UID:59814844-2f42-4b31-9ec2-5c37a9979880
X-WR-CALDESC:
X-WR-RELCALID:69b4a439b58d146fad4450c4a6eff027
X-WR-TIMEZONE:America/Chicago
BEGIN:VTIMEZONE
TZID:America/Chicago
BEGIN:STANDARD
TZNAME:CST
DTSTART:20221106T020000
TZOFFSETFROM:-0500
TZOFFSETTO:-0600
RDATE:20231105T020000
END:STANDARD
BEGIN:DAYLIGHT
TZNAME:CDT
DTSTART:20220313T020000
TZOFFSETFROM:-0600
TZOFFSETTO:-0500
RDATE:20230312T020000
RDATE:20240310T020000
END:DAYLIGHT
END:VTIMEZONE
BEGIN:VEVENT
UID:6790a7e7-f6b4-4ac0-a724-a4899faf9d54
DTSTAMP:20260423T085045Z
DESCRIPTION:
DTSTART;TZID=America/Chicago:20230103T140000
DTEND;TZID=America/Chicago:20230103T150000
LOCATION:
SUMMARY:Simply Fit
END:VEVENT
END:VCALENDAR
