BEGIN:VCALENDAR
VERSION:2.0
PRODID:-//empowercdc.org//NONSGML kigkonsult.se iCalcreator 2.30.10//
CALSCALE:GREGORIAN
METHOD:PUBLISH
UID:f7f0fc4f-a862-4fbf-9894-d79a94d1d873
X-WR-CALDESC:
X-WR-RELCALID:19699230f9a68c80da012fad76b34e89
X-WR-TIMEZONE:America/Chicago
BEGIN:VTIMEZONE
TZID:America/Chicago
BEGIN:STANDARD
TZNAME:CST
DTSTART:20221106T020000
TZOFFSETFROM:-0500
TZOFFSETTO:-0600
RDATE:20231105T020000
END:STANDARD
BEGIN:DAYLIGHT
TZNAME:CDT
DTSTART:20220313T020000
TZOFFSETFROM:-0600
TZOFFSETTO:-0500
RDATE:20230312T020000
RDATE:20240310T020000
END:DAYLIGHT
END:VTIMEZONE
BEGIN:VEVENT
UID:1677f8e8-70d7-4e5f-bf92-ace6f5fcc54b
DTSTAMP:20260423T100930Z
DESCRIPTION:
DTSTART;TZID=America/Chicago:20221227T140000
DTEND;TZID=America/Chicago:20221227T150000
LOCATION:
SUMMARY:Simply Fit
END:VEVENT
END:VCALENDAR
