BEGIN:VCALENDAR
VERSION:2.0
PRODID:-//empowercdc.org//NONSGML kigkonsult.se iCalcreator 2.30.10//
CALSCALE:GREGORIAN
METHOD:PUBLISH
UID:4352d081-53a6-4f4d-9ca5-4dc4b79373ef
X-WR-CALDESC:
X-WR-RELCALID:a1d832a40bed9aeda4d44b551d64ad88
X-WR-TIMEZONE:America/Chicago
BEGIN:VTIMEZONE
TZID:America/Chicago
BEGIN:STANDARD
TZNAME:CST
DTSTART:20221106T020000
TZOFFSETFROM:-0500
TZOFFSETTO:-0600
RDATE:20231105T020000
END:STANDARD
BEGIN:DAYLIGHT
TZNAME:CDT
DTSTART:20220313T020000
TZOFFSETFROM:-0600
TZOFFSETTO:-0500
RDATE:20230312T020000
RDATE:20240310T020000
END:DAYLIGHT
END:VTIMEZONE
BEGIN:VEVENT
UID:5a2fecc6-7a04-4397-aa4e-ea6c8e656c61
DTSTAMP:20260423T101159Z
DESCRIPTION:
DTSTART;TZID=America/Chicago:20221219T100000
DTEND;TZID=America/Chicago:20221219T110000
LOCATION:
SUMMARY:Resident Led Bingo
END:VEVENT
END:VCALENDAR
