BEGIN:VCALENDAR
VERSION:2.0
PRODID:-//empowercdc.org//NONSGML kigkonsult.se iCalcreator 2.30.10//
CALSCALE:GREGORIAN
METHOD:PUBLISH
UID:d47fe294-b9a2-4e27-a85c-ae06a847cdff
X-WR-CALDESC:The Kid's Reading Room is back opened and ready to read storie
 s to the youth!
X-WR-RELCALID:968f4de43ed78ed122d0023a26871b91
X-WR-TIMEZONE:America/Chicago
BEGIN:VTIMEZONE
TZID:America/Chicago
BEGIN:STANDARD
TZNAME:CST
DTSTART:20221106T020000
TZOFFSETFROM:-0500
TZOFFSETTO:-0600
RDATE:20231105T020000
END:STANDARD
BEGIN:DAYLIGHT
TZNAME:CDT
DTSTART:20220313T020000
TZOFFSETFROM:-0600
TZOFFSETTO:-0500
RDATE:20230312T020000
RDATE:20240310T020000
END:DAYLIGHT
END:VTIMEZONE
BEGIN:VEVENT
UID:fa2157d7-4e11-4a19-9ad7-b881e748f3e7
DTSTAMP:20260423T101121Z
DESCRIPTION:The Kid's Reading Room is back opened and ready to read stories
  to the youth!
DTSTART;TZID=America/Chicago:20221214T160000
DTEND;TZID=America/Chicago:20221214T173000
LOCATION:
SUMMARY:The Kid's Reading Room
END:VEVENT
END:VCALENDAR
