BEGIN:VCALENDAR
VERSION:2.0
PRODID:-//empowercdc.org//NONSGML kigkonsult.se iCalcreator 2.30.10//
CALSCALE:GREGORIAN
METHOD:PUBLISH
UID:f68df03b-681b-4274-9854-937a4edb2590
X-WR-CALDESC:
X-WR-RELCALID:ce8f935d99cdf4255745ebedf2440d12
X-WR-TIMEZONE:America/Chicago
BEGIN:VTIMEZONE
TZID:America/Chicago
BEGIN:STANDARD
TZNAME:CST
DTSTART:20221106T020000
TZOFFSETFROM:-0500
TZOFFSETTO:-0600
RDATE:20231105T020000
END:STANDARD
BEGIN:DAYLIGHT
TZNAME:CDT
DTSTART:20220313T020000
TZOFFSETFROM:-0600
TZOFFSETTO:-0500
RDATE:20230312T020000
RDATE:20240310T020000
END:DAYLIGHT
END:VTIMEZONE
BEGIN:VEVENT
UID:ec9d33fc-4f90-4e7b-a9da-f314242942da
DTSTAMP:20260423T111951Z
DESCRIPTION:
DTSTART;TZID=America/Chicago:20221115T140000
DTEND;TZID=America/Chicago:20221115T150000
LOCATION:
SUMMARY:Simply Fit
END:VEVENT
END:VCALENDAR
