BEGIN:VCALENDAR
VERSION:2.0
PRODID:-//empowercdc.org//NONSGML kigkonsult.se iCalcreator 2.30.10//
CALSCALE:GREGORIAN
METHOD:PUBLISH
UID:daf367c2-1642-4a8d-b7ca-409223ce4a88
X-WR-CALDESC:Exercise: Virtual exercise via zoom.  Different techniques are
  used to to help the residents stay Simply Fit.
X-WR-RELCALID:15d6f0f625327977967bfc571da8a294
X-WR-TIMEZONE:America/Chicago
BEGIN:VTIMEZONE
TZID:America/Chicago
BEGIN:STANDARD
TZNAME:CST
DTSTART:20211107T020000
TZOFFSETFROM:-0500
TZOFFSETTO:-0600
RDATE:20221106T020000
RDATE:20231105T020000
END:STANDARD
BEGIN:DAYLIGHT
TZNAME:CDT
DTSTART:20220313T020000
TZOFFSETFROM:-0600
TZOFFSETTO:-0500
RDATE:20230312T020000
RDATE:20240310T020000
END:DAYLIGHT
END:VTIMEZONE
BEGIN:VEVENT
UID:7d42e1fd-902d-4084-bc0c-249b4ff44d8f
DTSTAMP:20260423T111945Z
DESCRIPTION:Exercise: Virtual exercise via zoom.  Different techniques are 
 used to to help the residents stay Simply Fit.
DTSTART;TZID=America/Chicago:20221103T140000
DTEND;TZID=America/Chicago:20221103T150000
LOCATION:
SUMMARY:Exercise:  Simply Fit
END:VEVENT
END:VCALENDAR
