BEGIN:VCALENDAR
VERSION:2.0
PRODID:-//empowercdc.org//NONSGML kigkonsult.se iCalcreator 2.30.10//
CALSCALE:GREGORIAN
METHOD:PUBLISH
UID:cafa4426-910a-444b-bbff-d3cea812d672
X-WR-CALDESC:
X-WR-RELCALID:3fbd0d67bf1f90789c936cb52168b67d
X-WR-TIMEZONE:America/Chicago
BEGIN:VTIMEZONE
TZID:America/Chicago
BEGIN:STANDARD
TZNAME:CST
DTSTART:20211107T020000
TZOFFSETFROM:-0500
TZOFFSETTO:-0600
RDATE:20221106T020000
RDATE:20231105T020000
END:STANDARD
BEGIN:DAYLIGHT
TZNAME:CDT
DTSTART:20220313T020000
TZOFFSETFROM:-0600
TZOFFSETTO:-0500
RDATE:20230312T020000
RDATE:20240310T020000
END:DAYLIGHT
END:VTIMEZONE
BEGIN:VEVENT
UID:04bb44de-e6d0-40fb-8310-10fba5af0a17
DTSTAMP:20260423T111708Z
DESCRIPTION:
DTSTART;TZID=America/Chicago:20221101T140000
DTEND;TZID=America/Chicago:20221101T150000
LOCATION:
SUMMARY:Simply Fit
END:VEVENT
END:VCALENDAR
