BEGIN:VCALENDAR
VERSION:2.0
PRODID:-//empowercdc.org//NONSGML kigkonsult.se iCalcreator 2.30.10//
CALSCALE:GREGORIAN
METHOD:PUBLISH
UID:4bf5b222-bfb1-46ca-aec2-02775757512f
X-WR-CALDESC:
X-WR-RELCALID:79f7a7d03c8a15701c1323464959ef90
X-WR-TIMEZONE:America/Chicago
BEGIN:VTIMEZONE
TZID:America/Chicago
BEGIN:STANDARD
TZNAME:CST
DTSTART:20211107T020000
TZOFFSETFROM:-0500
TZOFFSETTO:-0600
RDATE:20221106T020000
RDATE:20231105T020000
END:STANDARD
BEGIN:DAYLIGHT
TZNAME:CDT
DTSTART:20220313T020000
TZOFFSETFROM:-0600
TZOFFSETTO:-0500
RDATE:20230312T020000
RDATE:20240310T020000
END:DAYLIGHT
END:VTIMEZONE
BEGIN:VEVENT
UID:b78afbf7-4a14-4417-bfd6-e39549320e34
DTSTAMP:20260423T125058Z
DESCRIPTION:
DTSTART;TZID=America/Chicago:20221018T140000
DTEND;TZID=America/Chicago:20221018T150000
LOCATION:
SUMMARY:Simply Fit
END:VEVENT
END:VCALENDAR
