BEGIN:VCALENDAR
VERSION:2.0
PRODID:-//empowercdc.org//NONSGML kigkonsult.se iCalcreator 2.30.10//
CALSCALE:GREGORIAN
METHOD:PUBLISH
UID:71dfcd6c-4f8f-4b5d-9cec-d045e415a8d6
X-WR-CALDESC:
X-WR-RELCALID:1bea81896d8f937dc72162f4d6c97dcc
X-WR-TIMEZONE:America/Chicago
BEGIN:VTIMEZONE
TZID:America/Chicago
BEGIN:STANDARD
TZNAME:CST
DTSTART:20211107T020000
TZOFFSETFROM:-0500
TZOFFSETTO:-0600
RDATE:20221106T020000
RDATE:20231105T020000
END:STANDARD
BEGIN:DAYLIGHT
TZNAME:CDT
DTSTART:20220313T020000
TZOFFSETFROM:-0600
TZOFFSETTO:-0500
RDATE:20230312T020000
RDATE:20240310T020000
END:DAYLIGHT
END:VTIMEZONE
BEGIN:VEVENT
UID:4de565ce-e07b-46da-a360-43c07ef38592
DTSTAMP:20260423T125302Z
DESCRIPTION:
DTSTART;TZID=America/Chicago:20221011T140000
DTEND;TZID=America/Chicago:20221011T150000
LOCATION:
SUMMARY:Simply Fit
END:VEVENT
END:VCALENDAR
