BEGIN:VCALENDAR
VERSION:2.0
PRODID:-//empowercdc.org//NONSGML kigkonsult.se iCalcreator 2.30.10//
CALSCALE:GREGORIAN
METHOD:PUBLISH
UID:4f78ae8f-090e-4c66-b430-fcc4871eff83
X-WR-CALDESC:
X-WR-RELCALID:4b770a6d1c964838e5a7d63a3ce4ec6d
X-WR-TIMEZONE:America/Chicago
BEGIN:VTIMEZONE
TZID:America/Chicago
BEGIN:STANDARD
TZNAME:CST
DTSTART:20211107T020000
TZOFFSETFROM:-0500
TZOFFSETTO:-0600
RDATE:20221106T020000
RDATE:20231105T020000
END:STANDARD
BEGIN:DAYLIGHT
TZNAME:CDT
DTSTART:20220313T020000
TZOFFSETFROM:-0600
TZOFFSETTO:-0500
RDATE:20230312T020000
RDATE:20240310T020000
END:DAYLIGHT
END:VTIMEZONE
BEGIN:VEVENT
UID:446dc432-544c-41d7-9b4e-06b4b43daa7a
DTSTAMP:20260423T125345Z
DESCRIPTION:
DTSTART;TZID=America/Chicago:20221004T140000
DTEND;TZID=America/Chicago:20221004T150000
LOCATION:
SUMMARY:Simply Fit
END:VEVENT
END:VCALENDAR
