BEGIN:VCALENDAR
VERSION:2.0
PRODID:-//empowercdc.org//NONSGML kigkonsult.se iCalcreator 2.30.10//
CALSCALE:GREGORIAN
METHOD:PUBLISH
UID:bda62d7c-9fe4-42d4-9e47-220e0b2c3438
X-WR-CALDESC:
X-WR-RELCALID:80fbe9bfae1a669f7831a23f09528cc6
X-WR-TIMEZONE:America/Chicago
BEGIN:VTIMEZONE
TZID:America/Chicago
BEGIN:STANDARD
TZNAME:CST
DTSTART:20211107T020000
TZOFFSETFROM:-0500
TZOFFSETTO:-0600
RDATE:20221106T020000
RDATE:20231105T020000
END:STANDARD
BEGIN:DAYLIGHT
TZNAME:CDT
DTSTART:20220313T020000
TZOFFSETFROM:-0600
TZOFFSETTO:-0500
RDATE:20230312T020000
RDATE:20240310T020000
END:DAYLIGHT
END:VTIMEZONE
BEGIN:VEVENT
UID:777eba24-0e84-47ee-bf98-a686c098f9e1
DTSTAMP:20260423T125440Z
DESCRIPTION:
DTSTART;TZID=America/Chicago:20221003T100000
DTEND;TZID=America/Chicago:20221003T110000
LOCATION:
SUMMARY:Resident Led Bingo
END:VEVENT
END:VCALENDAR
