BEGIN:VCALENDAR
VERSION:2.0
PRODID:-//empowercdc.org//NONSGML kigkonsult.se iCalcreator 2.30.10//
CALSCALE:GREGORIAN
METHOD:PUBLISH
UID:9100a88a-f3ee-490b-896a-8ca5dbe36e65
X-WR-CALDESC:
X-WR-RELCALID:dd375fab1e2909513d7a81039ff3104a
X-WR-TIMEZONE:America/Chicago
BEGIN:VTIMEZONE
TZID:America/Chicago
BEGIN:STANDARD
TZNAME:CST
DTSTART:20211107T020000
TZOFFSETFROM:-0500
TZOFFSETTO:-0600
RDATE:20221106T020000
RDATE:20231105T020000
END:STANDARD
BEGIN:DAYLIGHT
TZNAME:CDT
DTSTART:20220313T020000
TZOFFSETFROM:-0600
TZOFFSETTO:-0500
RDATE:20230312T020000
RDATE:20240310T020000
END:DAYLIGHT
END:VTIMEZONE
BEGIN:VEVENT
UID:8b26f6f7-7092-4b89-9c9e-521db4a98f60
DTSTAMP:20260423T143533Z
DESCRIPTION:
DTSTART;TZID=America/Chicago:20220927T140000
DTEND;TZID=America/Chicago:20220927T150000
LOCATION:
SUMMARY:Simply Fit
END:VEVENT
END:VCALENDAR
