BEGIN:VCALENDAR
VERSION:2.0
PRODID:-//empowercdc.org//NONSGML kigkonsult.se iCalcreator 2.30.10//
CALSCALE:GREGORIAN
METHOD:PUBLISH
UID:0a7f9242-6e44-4412-befb-652b655e25d7
X-WR-CALDESC:
X-WR-RELCALID:bc8c9b37266426dc76798ea1b2f12c57
X-WR-TIMEZONE:America/Chicago
BEGIN:VTIMEZONE
TZID:America/Chicago
BEGIN:STANDARD
TZNAME:CST
DTSTART:20211107T020000
TZOFFSETFROM:-0500
TZOFFSETTO:-0600
RDATE:20221106T020000
RDATE:20231105T020000
END:STANDARD
BEGIN:DAYLIGHT
TZNAME:CDT
DTSTART:20220313T020000
TZOFFSETFROM:-0600
TZOFFSETTO:-0500
RDATE:20230312T020000
END:DAYLIGHT
END:VTIMEZONE
BEGIN:VEVENT
UID:a33f7d24-a962-4f7c-8775-17b48f4c7021
DTSTAMP:20260423T143333Z
DESCRIPTION:
DTSTART;TZID=America/Chicago:20220906T140000
DTEND;TZID=America/Chicago:20220906T150000
LOCATION:
SUMMARY:Simply Fit
END:VEVENT
END:VCALENDAR
